BEGIN:VCALENDAR
VERSION:2.0
PRODID:-//Cauboi.it - ECPv6.0.9//NONSGML v1.0//EN
CALSCALE:GREGORIAN
METHOD:PUBLISH
X-WR-CALNAME:Cauboi.it
X-ORIGINAL-URL:https://www.cauboi.it
X-WR-CALDESC:Eventi per Cauboi.it
REFRESH-INTERVAL;VALUE=DURATION:PT1H
X-Robots-Tag:noindex
X-PUBLISHED-TTL:PT1H
BEGIN:VTIMEZONE
TZID:UTC
BEGIN:STANDARD
TZOFFSETFROM:+0000
TZOFFSETTO:+0000
TZNAME:UTC
DTSTART:20240101T000000
END:STANDARD
END:VTIMEZONE
BEGIN:VEVENT
DTSTART;TZID=UTC:20240321T210000
DTEND;TZID=UTC:20240321T230000
DTSTAMP:20260421T154531
CREATED:20231103T224810Z
LAST-MODIFIED:20231103T224810Z
UID:1368-1711054800-1711062000@www.cauboi.it
SUMMARY:concerto a Lecco
DESCRIPTION:“Manoglia Tour” \nprevendite: ticketone – Lecco 21
URL:https://www.cauboi.it/event/concerto-a-lecco-2/
LOCATION:Teatro Cenacolo Francescano\, Piazzale dei Cappuccini 3\, Lecco\, Italia
CATEGORIES:Manoglia Tour
ATTACH;FMTTYPE=image/jpeg:https://www.cauboi.it/wp-content/uploads/2023/11/manoglia-1.jpg
END:VEVENT
END:VCALENDAR