BEGIN:VCALENDAR
VERSION:2.0
PRODID:-//Cauboi.it - ECPv6.0.9//NONSGML v1.0//EN
CALSCALE:GREGORIAN
METHOD:PUBLISH
X-ORIGINAL-URL:https://www.cauboi.it
X-WR-CALDESC:Eventi per Cauboi.it
REFRESH-INTERVAL;VALUE=DURATION:PT1H
X-Robots-Tag:noindex
X-PUBLISHED-TTL:PT1H
BEGIN:VTIMEZONE
TZID:UTC
BEGIN:STANDARD
TZOFFSETFROM:+0000
TZOFFSETTO:+0000
TZNAME:UTC
DTSTART:20220101T000000
END:STANDARD
END:VTIMEZONE
BEGIN:VEVENT
DTSTART;TZID=UTC:20220507T200000
DTEND;TZID=UTC:20220507T220000
DTSTAMP:20260424T180458
CREATED:20220408T204513Z
LAST-MODIFIED:20220408T204513Z
UID:1031-1651953600-1651960800@www.cauboi.it
SUMMARY:concerto a Poschiavo (Svizzera)
DESCRIPTION:MAADER TOUR – \nBiglietti e info: \nhttps://shop.e-guma.ch/valposchiavo-turismo/it/events/davide-van-de-sfroos-in-concerto-a-poschiavo-3280589
URL:https://www.cauboi.it/event/concerto-a-poschiavo-svizzera/
CATEGORIES:MAADER Tour
ATTACH;FMTTYPE=image/png:https://www.cauboi.it/wp-content/uploads/2021/11/Schermata-2021-11-25-alle-23.29.49.png
END:VEVENT
END:VCALENDAR